BEGIN:VCALENDAR
VERSION:2.0
PRODID:-//wp-events-plugin.com//7.2.3.1//EN
TZID:America/Chicago
X-WR-TIMEZONE:America/Chicago
BEGIN:VEVENT
UID:210585@hrbuni.com
DTSTART;TZID=America/Chicago:20250701T090000
DTEND;TZID=America/Chicago:20260430T150000
DTSTAMP:20250407T194620Z
URL:https://hrbuni.com/search/fernandina-beach-fl-sure-haccp-food-safety-m
 anager-remote-course/
SUMMARY:Fernandina Beach\, FL SURE™ HACCP Food Safety Manager Remote Cour
 se
DESCRIPTION:The Fernandina Beach\, FL  SURE™ HACCP Food Safety Manager R
 emote Course is a  Special Processes Retail HACCP session that is approve
 d by the International HACCP Alliance utilizing the SURE™ HACCP Food Saf
 ety Manager Program.
ATTACH;FMTTYPE=image/jpeg:https://hrbuni.com/wp-content/uploads/2024/11/Ma
 nagerHACCP.jpg
CATEGORIES:-- Instructor-Led Remote Course &amp; Exam,Courses &amp; Exams
 Categories,HACCP
LOCATION:Fernandina Beach\, FL Certification Academy\, HRBUniversal Trainin
 g Center\, Fernandina Beach\, Florida\, 32097\, United States
GEO:30.618987;-81.64652000000001
X-APPLE-STRUCTURED-LOCATION;VALUE=URI;X-ADDRESS=HRBUniversal Training Cente
 r\, Fernandina Beach\, Florida\, 32097\, United States;X-APPLE-RADIUS=100;
 X-TITLE=Fernandina Beach\, FL Certification Academy:geo:30.618987,-81.6465
 2000000001
END:VEVENT
BEGIN:VTIMEZONE
TZID:America/Chicago
X-LIC-LOCATION:America/Chicago
BEGIN:DAYLIGHT
DTSTART:20250309T030000
TZOFFSETFROM:-0600
TZOFFSETTO:-0500
TZNAME:CDT
END:DAYLIGHT
BEGIN:STANDARD
DTSTART:20251102T010000
TZOFFSETFROM:-0500
TZOFFSETTO:-0600
TZNAME:CST
END:STANDARD
BEGIN:DAYLIGHT
DTSTART:20260308T030000
TZOFFSETFROM:-0600
TZOFFSETTO:-0500
TZNAME:CDT
END:DAYLIGHT
END:VTIMEZONE
END:VCALENDAR