BEGIN:VCALENDAR
VERSION:2.0
PRODID:-//wp-events-plugin.com//7.2.3.1//EN
TZID:America/Chicago
X-WR-TIMEZONE:America/Chicago
BEGIN:VEVENT
UID:382886@hrbuni.com
DTSTART;TZID=America/New_York:20261203T083000
DTEND;TZID=America/New_York:20261203T160000
DTSTAMP:20251219T173446Z
URL:https://hrbuni.com/search/fernandina-beach-fl-responsible-training-foo
 d-protection-manager-exam-course-2026-02-12-2026-03-26-2026-05-07-2026-06-
 18-2026-07-30-2026-09-10-2026-10-22-2026-12-03/
SUMMARY:Fernandina Beach\, FL Responsible Training Food Protection Manager 
 Exam & Course
DESCRIPTION:Fernandina Beach\, FL Responsible Training Food Protection Mana
 ger Exam & Course - Are you looking to earn your Food Protection Manager C
 ertification in Fernandina Beach\, FL? Our Responsible Training program is
  the premier choice for local food service professionals. As an ANSI-CFP a
 ccredited provider\, we deliver a comprehensive curriculum that blends the
  most recent FDA Food Code updates with decades of hands-on food sanitatio
 n expertise. Developed by Responsible Training in collaboration with indus
 try leaders\, our course is designed to prepare you for real-world safety 
 challenges.
ATTACH;FMTTYPE=image/jpeg:https://hrbuni.com/wp-content/uploads/2023/09/Sc
 reenshot-2024-06-10-at-7.40.56 PM-1.png
CATEGORIES:-- Instructor-Led In-Person Course &amp; Exam,Courses &amp;
 Exams Categories,Food Manager
LOCATION:Fernandina Beach\, FL Certification Academy\, HRBUniversal Trainin
 g Center\, Fernandina Beach\, Florida\, 32097\, United States
GEO:30.618987;-81.64652000000001
X-APPLE-STRUCTURED-LOCATION;VALUE=URI;X-ADDRESS=HRBUniversal Training Cente
 r\, Fernandina Beach\, Florida\, 32097\, United States;X-APPLE-RADIUS=100;
 X-TITLE=Fernandina Beach\, FL Certification Academy:geo:30.618987,-81.6465
 2000000001
END:VEVENT
BEGIN:VTIMEZONE
TZID:America/New_York
X-LIC-LOCATION:America/New_York
BEGIN:STANDARD
DTSTART:20261101T010000
TZOFFSETFROM:-0400
TZOFFSETTO:-0500
TZNAME:EST
END:STANDARD
END:VTIMEZONE
END:VCALENDAR