BEGIN:VCALENDAR
VERSION:2.0
PRODID:-//wp-events-plugin.com//7.2.3.1//EN
TZID:America/Chicago
X-WR-TIMEZONE:America/Chicago
BEGIN:VEVENT
UID:382424@hrbuni.com
DTSTART;TZID=America/New_York:20260507T083000
DTEND;TZID=America/New_York:20260507T160000
DTSTAMP:20251218T145949Z
URL:https://hrbuni.com/search/fernandina-beach-fl-food-protection-manager-
 certification-course-exam-2026-02-12-2026-03-26-2026-05-07/
SUMMARY:Fernandina Beach\, FL Food Protection Manager Certification Course 
 & Exam
DESCRIPTION:Fernandina Beach\, FL Food Protection Manager Certification Cou
 rse & Exam - Are you a food service professional ready to pass your Food P
 rotection Manager Certification exam with absolute confidence? Stay ahead 
 of the curve\, ensure total regulatory compliance\, and master the essenti
 al knowledge required for certification with our intensive Food Manager Sa
 fety Training course.
ATTACH;FMTTYPE=image/jpeg:https://hrbuni.com/wp-content/uploads/2025/07/HR
 BUniversal-No-Line.jpg
CATEGORIES:-- Instructor-Led In-Person Course &amp; Exam,Courses &amp;
 Exams Categories,Food Manager
LOCATION:Fernandina Beach\, FL Certification Academy\, HRBUniversal Trainin
 g Center\, Fernandina Beach\, Florida\, 32097\, United States
GEO:30.618987;-81.64652000000001
X-APPLE-STRUCTURED-LOCATION;VALUE=URI;X-ADDRESS=HRBUniversal Training Cente
 r\, Fernandina Beach\, Florida\, 32097\, United States;X-APPLE-RADIUS=100;
 X-TITLE=Fernandina Beach\, FL Certification Academy:geo:30.618987,-81.6465
 2000000001
END:VEVENT
BEGIN:VTIMEZONE
TZID:America/New_York
X-LIC-LOCATION:America/New_York
BEGIN:DAYLIGHT
DTSTART:20260308T030000
TZOFFSETFROM:-0500
TZOFFSETTO:-0400
TZNAME:EDT
END:DAYLIGHT
END:VTIMEZONE
END:VCALENDAR