BEGIN:VCALENDAR
VERSION:2.0
PRODID:-//wp-events-plugin.com//7.2.3.1//EN
TZID:America/Chicago
X-WR-TIMEZONE:America/Chicago
BEGIN:VEVENT
UID:383613@hrbuni.com
DTSTART;TZID=America/Chicago:20260608T083000
DTEND;TZID=America/Chicago:20260608T160000
DTSTAMP:20251230T225649Z
URL:https://hrbuni.com/search/destin-fl-servsafe-food-protection-manager-e
 xam-course-2026-02-02-2026-03-16-2026-04-27-2026-06-08/
SUMMARY:Destin\, FL ServSafe® Food Protection Manager Exam & Course
DESCRIPTION:Looking for a trusted ServSafe® Food Protection Manager Certif
 ication program in Destin\, FL? Look no further. Our comprehensive trainin
 g is accredited by the American National Standards Institute (ANSI)-Confer
 ence for Food Protection (CFP)\, ensuring you receive a credential that me
 ets the highest standards.
ATTACH;FMTTYPE=image/jpeg:https://hrbuni.com/wp-content/uploads/2024/07/Se
 rvSafeProct.fw_-300x200-1.jpg
CATEGORIES:-- Instructor-Led In-Person Course &amp; Exam,Courses &amp;
 Exams Categories,Food Manager
LOCATION:Destin\, FL ServSafe® & NRA Certification Programs\, HRBUniversal
  Training Center\, Destin\, Florida\, United States
GEO:30.405627;-86.48459
X-APPLE-STRUCTURED-LOCATION;VALUE=URI;X-ADDRESS=HRBUniversal Training Cente
 r\, Destin\, Florida\, United States;X-APPLE-RADIUS=100;X-TITLE=Destin\, F
 L ServSafe® & NRA Certification Programs:geo:30.405627,-86.48459
END:VEVENT
BEGIN:VTIMEZONE
TZID:America/Chicago
X-LIC-LOCATION:America/Chicago
BEGIN:DAYLIGHT
DTSTART:20260308T030000
TZOFFSETFROM:-0600
TZOFFSETTO:-0500
TZNAME:CDT
END:DAYLIGHT
END:VTIMEZONE
END:VCALENDAR