BEGIN:VCALENDAR
VERSION:2.0
PRODID:-//wp-events-plugin.com//7.2.3.1//EN
TZID:America/Chicago
X-WR-TIMEZONE:America/Chicago
BEGIN:VEVENT
UID:383175@hrbuni.com
DTSTART;TZID=America/Chicago:20261123T083000
DTEND;TZID=America/Chicago:20261123T160000
DTSTAMP:20251229T223410Z
URL:https://hrbuni.com/search/destin-fl-fmc-food-managers-certification-ex
 am-course-2026-02-02-2026-03-16-2026-04-27-2026-06-08-2026-07-20-2026-08-3
 1-2026-10-12-2026-11-23/
SUMMARY:Destin\, FL FMC® Food Managers Certification Exam & Course
DESCRIPTION:Destin\, FL FMC® Food Managers Certification Exam & Course - P
 rofessional excellence starts with the right training. HRBUniversal offers
  a premier ANAB-accredited FMC® Food Managers Certification program desig
 ned to meet the highest industry standards. By combining the latest FDA Fo
 od Code with decades of hands-on experience\, we prepare you to tackle any
  food sanitation challenge.
ATTACH;FMTTYPE=image/jpeg:https://hrbuni.com/wp-content/uploads/2024/06/Sc
 reenshot-2024-06-12-at-11.47.05 AM-1.png
CATEGORIES:-- Instructor-Led In-Person Course &amp; Exam,Courses &amp;
 Exams Categories,Food Manager
LOCATION:Destin\, FL Certification Academy\, HRBUniversal Training Center\,
  Destin\, Florida\, United States
GEO:30.38265;-86.398317
X-APPLE-STRUCTURED-LOCATION;VALUE=URI;X-ADDRESS=HRBUniversal Training Cente
 r\, Destin\, Florida\, United States;X-APPLE-RADIUS=100;X-TITLE=Destin\, F
 L Certification Academy:geo:30.38265,-86.398317
END:VEVENT
BEGIN:VTIMEZONE
TZID:America/Chicago
X-LIC-LOCATION:America/Chicago
BEGIN:STANDARD
DTSTART:20261101T010000
TZOFFSETFROM:-0500
TZOFFSETTO:-0600
TZNAME:CST
END:STANDARD
END:VTIMEZONE
END:VCALENDAR