BEGIN:VCALENDAR
VERSION:2.0
PRODID:-//wp-events-plugin.com//7.2.3.1//EN
TZID:America/Chicago
X-WR-TIMEZONE:America/Chicago
BEGIN:VEVENT
UID:383756@hrbuni.com
DTSTART;TZID=America/New_York:20260506T083000
DTEND;TZID=America/New_York:20260506T160000
DTSTAMP:20260122T200131Z
URL:https://hrbuni.com/search/deland-fl-servsafe-food-protection-manager-e
 xam-course-2026-02-11-2026-03-25-2026-05-06/
SUMMARY:DeLand\, FL ServSafe® Food Protection Manager Exam & Course
DESCRIPTION:DeLand\, FL ServSafe® Food Protection Manager Exam & Course - 
 Looking for a trusted ServSafe® Food Protection Manager Certification pro
 gram in Miami\, FL? Look no further. Our comprehensive training is accredi
 ted by the American National Standards Institute (ANSI)-Conference for Foo
 d Protection (CFP)\, ensuring you receive a credential that meets the high
 est standards.
ATTACH;FMTTYPE=image/jpeg:https://hrbuni.com/wp-content/uploads/2024/07/Se
 rvSafeProct.fw_-300x200-1.jpg
CATEGORIES:-- Instructor-Led In-Person Course &amp; Exam,Courses &amp;
 Exams Categories,Food Manager
LOCATION:DeLand\, FL ServSafe® & NRA Certification Programs\, HRBUniversal
  Training Center\, DeLand\, Florida\, United States
GEO:29.079246;-81.304841
X-APPLE-STRUCTURED-LOCATION;VALUE=URI;X-ADDRESS=HRBUniversal Training Cente
 r\, DeLand\, Florida\, United States;X-APPLE-RADIUS=100;X-TITLE=DeLand\, F
 L ServSafe® & NRA Certification Programs:geo:29.079246,-81.304841
END:VEVENT
BEGIN:VTIMEZONE
TZID:America/New_York
X-LIC-LOCATION:America/New_York
BEGIN:DAYLIGHT
DTSTART:20260308T030000
TZOFFSETFROM:-0500
TZOFFSETTO:-0400
TZNAME:EDT
END:DAYLIGHT
END:VTIMEZONE
END:VCALENDAR