BEGIN:VCALENDAR
VERSION:2.0
PRODID:-//wp-events-plugin.com//7.2.3.1//EN
TZID:America/Chicago
X-WR-TIMEZONE:America/Chicago
BEGIN:VEVENT
UID:383421@hrbuni.com
DTSTART;TZID=America/Chicago:20260514T083000
DTEND;TZID=America/Chicago:20260514T160000
DTSTAMP:20251230T202946Z
URL:https://hrbuni.com/search/brentwood-tn-servsafe-food-protection-manage
 r-exam-course-2026-01-08-2026-02-19-2026-04-02-2026-05-14/
SUMMARY:Brentwood\, TN ServSafe® Food Protection Manager Exam & Course
DESCRIPTION:Looking for a trusted ServSafe® Food Protection Manager Certif
 ication program in Brentwood\, TN? Look no further. Our comprehensive trai
 ning is accredited by the American National Standards Institute (ANSI)-Con
 ference for Food Protection (CFP)\, ensuring you receive a credential that
  meets the highest standards.
ATTACH;FMTTYPE=image/jpeg:https://hrbuni.com/wp-content/uploads/2024/07/Se
 rvSafeProct.fw_-300x200-1.jpg
CATEGORIES:-- Instructor-Led In-Person Course &amp; Exam,Courses &amp;
 Exams Categories,Food Manager
LOCATION:Nashville\, TN ServSafe® & NRA Certification Programs\, HRBUniver
 sal Training Center\, Nashville\, Tennessee\, 37027\, United States
GEO:36.0326246;-86.78080190000003
X-APPLE-STRUCTURED-LOCATION;VALUE=URI;X-ADDRESS=HRBUniversal Training Cente
 r\, Nashville\, Tennessee\, 37027\, United States;X-APPLE-RADIUS=100;X-TIT
 LE=Nashville\, TN ServSafe® & NRA Certification Programs:geo:36.0326246,-
 86.78080190000003
END:VEVENT
BEGIN:VTIMEZONE
TZID:America/Chicago
X-LIC-LOCATION:America/Chicago
BEGIN:DAYLIGHT
DTSTART:20260308T030000
TZOFFSETFROM:-0600
TZOFFSETTO:-0500
TZNAME:CDT
END:DAYLIGHT
END:VTIMEZONE
END:VCALENDAR