BEGIN:VCALENDAR
VERSION:2.0
PRODID:-//wp-events-plugin.com//7.2.3.1//EN
TZID:America/Chicago
X-WR-TIMEZONE:America/Chicago
BEGIN:VEVENT
UID:382545@hrbuni.com
DTSTART;TZID=America/Chicago:20261029T083000
DTEND;TZID=America/Chicago:20261029T160000
DTSTAMP:20251218T184712Z
URL:https://hrbuni.com/search/brentwood-tn-responsible-training-food-prote
 ction-manager-exam-course-2026-01-08-2026-02-19-2026-04-02-2026-05-14-2026
 -06-25-2026-08-06-2026-09-17-2026-10-29/
SUMMARY:Brentwood\, TN Responsible Training Food Protection Manager Exam & 
 Course
DESCRIPTION:Brentwood\, TN Responsible Training Food Protection Manager Exa
 m & Course - Are you looking to earn your Food Protection Manager Certific
 ation in Brentwood\, TN? Our Responsible Training program is the premier c
 hoice for local food service professionals. As an ANSI-CFP accredited prov
 ider\, we deliver a comprehensive curriculum that blends the most recent F
 DA Food Code updates with decades of hands-on food sanitation expertise. D
 eveloped by Responsible Training in collaboration with industry leaders\, 
 our course is designed to prepare you for real-world safety challenges.
ATTACH;FMTTYPE=image/jpeg:https://hrbuni.com/wp-content/uploads/2023/09/Sc
 reenshot-2024-06-10-at-7.40.56 PM-1.png
CATEGORIES:-- Instructor-Led In-Person Course &amp; Exam,Courses &amp;
 Exams Categories,Food Manager
LOCATION:Brentwood\, TN Certification Academy\, HRBUniversal Training Cente
 r\, Brentwood\, Tennessee\, 37027\, United States
GEO:36.0326246;-86.78080190000003
X-APPLE-STRUCTURED-LOCATION;VALUE=URI;X-ADDRESS=HRBUniversal Training Cente
 r\, Brentwood\, Tennessee\, 37027\, United States;X-APPLE-RADIUS=100;X-TIT
 LE=Brentwood\, TN Certification Academy:geo:36.0326246,-86.78080190000003
END:VEVENT
BEGIN:VTIMEZONE
TZID:America/Chicago
X-LIC-LOCATION:America/Chicago
BEGIN:DAYLIGHT
DTSTART:20260308T030000
TZOFFSETFROM:-0600
TZOFFSETTO:-0500
TZNAME:CDT
END:DAYLIGHT
END:VTIMEZONE
END:VCALENDAR