BEGIN:VCALENDAR
VERSION:2.0
PRODID:-//wp-events-plugin.com//7.2.3.1//EN
TZID:America/Chicago
X-WR-TIMEZONE:America/Chicago
BEGIN:VEVENT
UID:382968@hrbuni.com
DTSTART;TZID=America/Chicago:20260806T083000
DTEND;TZID=America/Chicago:20260806T160000
DTSTAMP:20251219T205819Z
URL:https://hrbuni.com/search/brentwood-tn-fmc-food-managers-certification
 -exam-course-2026-01-08-2026-02-19-2026-04-02-2026-05-14-2026-06-25-2026-0
 8-06/
SUMMARY:Brentwood\, TN FMC® Food Managers Certification Exam & Course
DESCRIPTION:Brentwood\, TN FMC® Food Managers Certification Exam & Course 
 - Professional excellence starts with the right training. HRBUniversal off
 ers a premier ANAB-accredited FMC® Food Managers Certification program de
 signed to meet the highest industry standards. By combining the latest FDA
  Food Code with decades of hands-on experience\, we prepare you to tackle 
 any food sanitation challenge.
ATTACH;FMTTYPE=image/jpeg:https://hrbuni.com/wp-content/uploads/2024/06/Sc
 reenshot-2024-06-12-at-11.47.05 AM-1.png
CATEGORIES:-- Instructor-Led In-Person Course &amp; Exam,Courses &amp;
 Exams Categories,Food Manager
LOCATION:Brentwood\, TN Certification Academy\, HRBUniversal Training Cente
 r\, Brentwood\, Tennessee\, 37027\, United States
GEO:36.0326246;-86.78080190000003
X-APPLE-STRUCTURED-LOCATION;VALUE=URI;X-ADDRESS=HRBUniversal Training Cente
 r\, Brentwood\, Tennessee\, 37027\, United States;X-APPLE-RADIUS=100;X-TIT
 LE=Brentwood\, TN Certification Academy:geo:36.0326246,-86.78080190000003
END:VEVENT
BEGIN:VTIMEZONE
TZID:America/Chicago
X-LIC-LOCATION:America/Chicago
BEGIN:DAYLIGHT
DTSTART:20260308T030000
TZOFFSETFROM:-0600
TZOFFSETTO:-0500
TZNAME:CDT
END:DAYLIGHT
END:VTIMEZONE
END:VCALENDAR