BEGIN:VCALENDAR
VERSION:2.0
PRODID:-//wp-events-plugin.com//7.2.3.1//EN
TZID:America/Chicago
X-WR-TIMEZONE:America/Chicago
BEGIN:VEVENT
UID:382514@hrbuni.com
DTSTART;TZID=America/Chicago:20260915T083000
DTEND;TZID=America/Chicago:20260915T160000
DTSTAMP:20251218T181318Z
URL:https://hrbuni.com/search/birmingham-al-responsible-training-food-prot
 ection-manager-exam-course-2026-01-06-2026-02-17-2026-03-31-2026-05-12-202
 6-06-23-2026-08-04-2026-09-15/
SUMMARY:Birmingham\, AL Responsible Training Food Protection Manager Exam &
  Course
DESCRIPTION:Birmingham\, AL Responsible Training Food Protection Manager Ex
 am & Course - Are you looking to earn your Food Protection Manager Certifi
 cation in Birmingham\, AL? Our Responsible Training program is the premier
  choice for local food service professionals. As an ANSI-CFP accredited pr
 ovider\, we deliver a comprehensive curriculum that blends the most recent
  FDA Food Code updates with decades of hands-on food sanitation expertise.
  Developed by Responsible Training in collaboration with industry leaders\
 , our course is designed to prepare you for real-world safety challenges.
ATTACH;FMTTYPE=image/jpeg:https://hrbuni.com/wp-content/uploads/2023/09/Sc
 reenshot-2024-06-10-at-7.40.56 PM-1.png
CATEGORIES:-- Instructor-Led In-Person Course &amp; Exam,Courses &amp;
 Exams Categories,Food Manager
LOCATION:Birmingham\, AL Certification Academy\, HRBUniversal Training Cent
 er\, Birmingham\, Alabama\, 35243\, United States
GEO:33.439074;-86.731034
X-APPLE-STRUCTURED-LOCATION;VALUE=URI;X-ADDRESS=HRBUniversal Training Cente
 r\, Birmingham\, Alabama\, 35243\, United States;X-APPLE-RADIUS=100;X-TITL
 E=Birmingham\, AL Certification Academy:geo:33.439074,-86.731034
END:VEVENT
BEGIN:VTIMEZONE
TZID:America/Chicago
X-LIC-LOCATION:America/Chicago
BEGIN:DAYLIGHT
DTSTART:20260308T030000
TZOFFSETFROM:-0600
TZOFFSETTO:-0500
TZNAME:CDT
END:DAYLIGHT
END:VTIMEZONE
END:VCALENDAR