BEGIN:VCALENDAR
VERSION:2.0
PRODID:-//wp-events-plugin.com//7.2.3.1//EN
TZID:America/Chicago
X-WR-TIMEZONE:America/Chicago
BEGIN:VEVENT
UID:382068@hrbuni.com
DTSTART;TZID=America/Chicago:20261208T083000
DTEND;TZID=America/Chicago:20261208T160000
DTSTAMP:20251218T162214Z
URL:https://hrbuni.com/search/birmingham-al-food-protection-manager-certif
 ication-course-exam-2026-01-06-2026-02-17-2026-03-31-2026-05-12-2026-06-23
 -2026-08-04-2026-09-15-2026-10-27-2026-12-08/
SUMMARY:Birmingham\, AL Food Protection Manager Certification Course & Exam
DESCRIPTION:Birmingham\, AL Food Protection Manager Certification Course & 
 Exam - Are you a food service professional ready to pass your Food Protect
 ion Manager Certification exam with absolute confidence? Stay ahead of the
  curve\, ensure total regulatory compliance\, and master the essential kno
 wledge required for certification with our intensive Food Manager Safety T
 raining course.
ATTACH;FMTTYPE=image/jpeg:https://hrbuni.com/wp-content/uploads/2025/07/HR
 BUniversal-No-Line.jpg
CATEGORIES:-- Instructor-Led In-Person Course &amp; Exam,Courses &amp;
 Exams Categories,Food Manager
LOCATION:Birmingham\, AL Certification Academy\, HRBUniversal Training Cent
 er\, Birmingham\, Alabama\, 35243\, United States
GEO:33.439074;-86.731034
X-APPLE-STRUCTURED-LOCATION;VALUE=URI;X-ADDRESS=HRBUniversal Training Cente
 r\, Birmingham\, Alabama\, 35243\, United States;X-APPLE-RADIUS=100;X-TITL
 E=Birmingham\, AL Certification Academy:geo:33.439074,-86.731034
END:VEVENT
BEGIN:VTIMEZONE
TZID:America/Chicago
X-LIC-LOCATION:America/Chicago
BEGIN:STANDARD
DTSTART:20261101T010000
TZOFFSETFROM:-0500
TZOFFSETTO:-0600
TZNAME:CST
END:STANDARD
END:VTIMEZONE
END:VCALENDAR