BEGIN:VCALENDAR
VERSION:2.0
PRODID:-//wp-events-plugin.com//7.2.3.1//EN
TZID:America/Chicago
X-WR-TIMEZONE:America/Chicago
BEGIN:VEVENT
UID:382936@hrbuni.com
DTSTART;TZID=America/Chicago:20260512T083000
DTEND;TZID=America/Chicago:20260512T160000
DTSTAMP:20251219T200521Z
URL:https://hrbuni.com/search/birmingham-al-fmc-food-managers-certificatio
 n-exam-course-2026-01-06-2026-02-17-2026-03-31-2026-05-12/
SUMMARY:Birmingham\, AL FMC® Food Managers Certification Exam & Course
DESCRIPTION:Birmingham\, AL FMC® Food Managers Certification Exam & Course
  - Professional excellence starts with the right training. HRBUniversal of
 fers a premier ANAB-accredited FMC® Food Managers Certification program d
 esigned to meet the highest industry standards. By combining the latest FD
 A Food Code with decades of hands-on experience\, we prepare you to tackle
  any food sanitation challenge.
ATTACH;FMTTYPE=image/jpeg:https://hrbuni.com/wp-content/uploads/2024/06/Sc
 reenshot-2024-06-12-at-11.47.05 AM-1.png
CATEGORIES:-- Instructor-Led In-Person Course &amp; Exam,Courses &amp;
 Exams Categories,Food Manager
LOCATION:Birmingham\, AL Certification Academy\, HRBUniversal Training Cent
 er\, Birmingham\, Alabama\, 35243\, United States
GEO:33.439074;-86.731034
X-APPLE-STRUCTURED-LOCATION;VALUE=URI;X-ADDRESS=HRBUniversal Training Cente
 r\, Birmingham\, Alabama\, 35243\, United States;X-APPLE-RADIUS=100;X-TITL
 E=Birmingham\, AL Certification Academy:geo:33.439074,-86.731034
END:VEVENT
BEGIN:VTIMEZONE
TZID:America/Chicago
X-LIC-LOCATION:America/Chicago
BEGIN:DAYLIGHT
DTSTART:20260308T030000
TZOFFSETFROM:-0600
TZOFFSETTO:-0500
TZNAME:CDT
END:DAYLIGHT
END:VTIMEZONE
END:VCALENDAR