BEGIN:VCALENDAR
VERSION:2.0
PRODID:-//wp-events-plugin.com//7.2.3.1//EN
TZID:America/Chicago
X-WR-TIMEZONE:America/Chicago
BEGIN:VEVENT
UID:382606@hrbuni.com
DTSTART;TZID=America/Chicago:20261217T083000
DTEND;TZID=America/Chicago:20261217T160000
DTSTAMP:20251218T211232Z
URL:https://hrbuni.com/search/biloxi-ms-responsible-training-food-protecti
 on-manager-exam-course-2026-01-15-2026-02-26-2026-04-09-2026-05-21-2026-07
 -02-2026-08-13-2026-09-24-2026-11-05-2026-12-17/
SUMMARY:Biloxi\, MS Responsible Training Food Protection Manager Exam & Cou
 rse
DESCRIPTION:Biloxi\, MS Responsible Training Food Protection Manager Exam &
  Course - Are you looking to earn your Food Protection Manager Certificati
 on in Biloxi\, MS? Our Responsible Training program is the premier choice 
 for local food service professionals. As an ANSI-CFP accredited provider\,
  we deliver a comprehensive curriculum that blends the most recent FDA Foo
 d Code updates with decades of hands-on food sanitation expertise. Develop
 ed by Responsible Training in collaboration with industry leaders\, our co
 urse is designed to prepare you for real-world safety challenges.
ATTACH;FMTTYPE=image/jpeg:https://hrbuni.com/wp-content/uploads/2023/09/Sc
 reenshot-2024-06-10-at-7.40.56 PM-1.png
CATEGORIES:-- Instructor-Led In-Person Course &amp; Exam,Courses &amp;
 Exams Categories,Food Manager
LOCATION:Biloxi\, MS Certification Academy\, HRBUniversal Training Center\,
  Biloxi\, Mississippi\, 39530\, United States
GEO:30.40233;-88.898267
X-APPLE-STRUCTURED-LOCATION;VALUE=URI;X-ADDRESS=HRBUniversal Training Cente
 r\, Biloxi\, Mississippi\, 39530\, United States;X-APPLE-RADIUS=100;X-TITL
 E=Biloxi\, MS Certification Academy:geo:30.40233,-88.898267
END:VEVENT
BEGIN:VTIMEZONE
TZID:America/Chicago
X-LIC-LOCATION:America/Chicago
BEGIN:STANDARD
DTSTART:20261101T010000
TZOFFSETFROM:-0500
TZOFFSETTO:-0600
TZNAME:CST
END:STANDARD
END:VTIMEZONE
END:VCALENDAR