BEGIN:VCALENDAR
VERSION:2.0
PRODID:-//wp-events-plugin.com//7.2.3.1//EN
TZID:America/Chicago
X-WR-TIMEZONE:America/Chicago
BEGIN:VEVENT
UID:383039@hrbuni.com
DTSTART;TZID=America/Chicago:20261105T083000
DTEND;TZID=America/Chicago:20261105T160000
DTSTAMP:20251229T203431Z
URL:https://hrbuni.com/search/biloxi-ms-fmc-food-managers-certification-ex
 am-course-2026-01-15-2026-02-26-2026-04-09-2026-05-21-2026-07-02-2026-08-1
 3-2026-09-24-2026-11-05/
SUMMARY:Biloxi\, MS FMC® Food Managers Certification Exam & Course
DESCRIPTION:Biloxi\, MS FMC® Food Managers Certification Exam & Course - P
 rofessional excellence starts with the right training. HRBUniversal offers
  a premier ANAB-accredited FMC® Food Managers Certification program desig
 ned to meet the highest industry standards. By combining the latest FDA Fo
 od Code with decades of hands-on experience\, we prepare you to tackle any
  food sanitation challenge.
ATTACH;FMTTYPE=image/jpeg:https://hrbuni.com/wp-content/uploads/2024/06/Sc
 reenshot-2024-06-12-at-11.47.05 AM-1.png
CATEGORIES:-- Instructor-Led In-Person Course &amp; Exam,Courses &amp;
 Exams Categories,Food Manager
LOCATION:Biloxi\, MS Certification Academy\, HRBUniversal Training Center\,
  Biloxi\, Mississippi\, 39530\, United States
GEO:30.40233;-88.898267
X-APPLE-STRUCTURED-LOCATION;VALUE=URI;X-ADDRESS=HRBUniversal Training Cente
 r\, Biloxi\, Mississippi\, 39530\, United States;X-APPLE-RADIUS=100;X-TITL
 E=Biloxi\, MS Certification Academy:geo:30.40233,-88.898267
END:VEVENT
BEGIN:VTIMEZONE
TZID:America/Chicago
X-LIC-LOCATION:America/Chicago
BEGIN:STANDARD
DTSTART:20261101T010000
TZOFFSETFROM:-0500
TZOFFSETTO:-0600
TZNAME:CST
END:STANDARD
END:VTIMEZONE
END:VCALENDAR