BEGIN:VCALENDAR
VERSION:2.0
PRODID:-//wp-events-plugin.com//7.2.3.1//EN
TZID:America/Chicago
X-WR-TIMEZONE:America/Chicago
BEGIN:VEVENT
UID:382103@hrbuni.com
DTSTART;TZID=America/Chicago:20260519T083000
DTEND;TZID=America/Chicago:20260519T160000
DTSTAMP:20251215T185948Z
URL:https://hrbuni.com/search/baton-rouge-la-food-protection-manager-certi
 fication-course-exam-2026-01-13-2026-02-24-2026-04-07-2026-05-19/
SUMMARY:Baton Rouge\, LA Food Protection Manager Certification Course & Exa
 m
DESCRIPTION:Baton Rouge\, LA Food Protection Manager Certification Course &
  Exam - Are you a food service professional ready to pass your Food Protec
 tion Manager Certification exam with absolute confidence? Stay ahead of th
 e curve\, ensure total regulatory compliance\, and master the essential kn
 owledge required for certification with our intensive Food Manager Safety 
 Training course.
ATTACH;FMTTYPE=image/jpeg:https://hrbuni.com/wp-content/uploads/2025/07/HR
 BUniversal-No-Line.jpg
CATEGORIES:-- Instructor-Led In-Person Course &amp; Exam,Courses &amp;
 Exams Categories,Food Manager
LOCATION:\, \, 
X-APPLE-STRUCTURED-LOCATION;VALUE=URI;X-ADDRESS=\, ;X-APPLE-RADIUS=100;X-TI
 TLE=:geo:0,0
END:VEVENT
BEGIN:VTIMEZONE
TZID:America/Chicago
X-LIC-LOCATION:America/Chicago
BEGIN:DAYLIGHT
DTSTART:20260308T030000
TZOFFSETFROM:-0600
TZOFFSETTO:-0500
TZNAME:CDT
END:DAYLIGHT
END:VTIMEZONE
END:VCALENDAR