BEGIN:VCALENDAR
VERSION:2.0
PRODID:-//wp-events-plugin.com//7.2.3.1//EN
TZID:America/Chicago
X-WR-TIMEZONE:America/Chicago
BEGIN:VEVENT
UID:382986@hrbuni.com
DTSTART;TZID=America/Chicago:20260519T083000
DTEND;TZID=America/Chicago:20260519T160000
DTSTAMP:20251219T211846Z
URL:https://hrbuni.com/search/baton-rouge-la-fmc-food-managers-certificati
 on-exam-course-2026-01-13-2026-02-24-2026-04-07-2026-05-19/
SUMMARY:Baton Rouge\, LA FMC® Food Managers Certification Exam & Course
DESCRIPTION:Baton Rouge\, LA FMC® Food Managers Certification Exam & Cours
 e - Professional excellence starts with the right training. HRBUniversal o
 ffers a premier ANAB-accredited FMC® Food Managers Certification program 
 designed to meet the highest industry standards. By combining the latest F
 DA Food Code with decades of hands-on experience\, we prepare you to tackl
 e any food sanitation challenge.
ATTACH;FMTTYPE=image/jpeg:https://hrbuni.com/wp-content/uploads/2024/06/Sc
 reenshot-2024-06-12-at-11.47.05 AM-1.png
CATEGORIES:-- Instructor-Led In-Person Course &amp; Exam,Courses &amp;
 Exams Categories,Food Manager
LOCATION:\, \, 
X-APPLE-STRUCTURED-LOCATION;VALUE=URI;X-ADDRESS=\, ;X-APPLE-RADIUS=100;X-TI
 TLE=:geo:0,0
END:VEVENT
BEGIN:VTIMEZONE
TZID:America/Chicago
X-LIC-LOCATION:America/Chicago
BEGIN:DAYLIGHT
DTSTART:20260308T030000
TZOFFSETFROM:-0600
TZOFFSETTO:-0500
TZNAME:CDT
END:DAYLIGHT
END:VTIMEZONE
END:VCALENDAR